BEGIN:VCALENDAR
VERSION:2.0
PRODID:-//eventon.com NONSGML v1.0//EN
BEGIN:VEVENT
UID:69e74838ba7c9
DTSTAMP:20260421T094944
DTSTART:20260509T100000Z
DTEND:20260509T120000Z
LOCATION:Dr. Buhmann Schule & Akademie\,  Schulhaus Prinzenstr. 13\,  30159 Hannover
SUMMARY:Informationstag für Abiturienten und Realschulabsolventen
DESCRIPTION: Wir laden Sie herzlich zu unserem Informationstag für Abiturienten und Realschulabsolventen ein. Für Abiturienten stellen wir die Ausbildungs- und Studiengänge vor: Mediendesign und Visual Arts Internationales Management Internationales Marketing Internationaler Tourismus Event- und Medienmanagement Sport- und Gesundheitsmanagement Immobilien- und Gebäudemanagement Wirtschaftsinformatik Realschulabsolventen informieren wir über die Möglichkeiten\,  Berufsausbildung und Fachhochschulreife[..]
END:VEVENT
END:VCALENDAR